BEGIN:VCALENDAR
VERSION:2.0
PRODID:-//ChamberMaster//Event Calendar 2.0//EN
METHOD:PUBLISH
X-PUBLISHED-TTL:P3D
REFRESH-INTERVAL:P3D
CALSCALE:GREGORIAN
BEGIN:VEVENT
DTSTART:20150417T000000Z
DTEND:20150417T013000Z
X-MICROSOFT-CDO-ALLDAYEVENT:FALSE
SUMMARY:Business Seminar - "Real Estate Market Pulse"
DESCRIPTION:Business Seminar\n\nA FREE educational seminar every month\n\nPresented By: The Montebello Chamber of Commerce\n\nAn opportunity for business owners and employees to learn and improve your skills.\n\n"Real Estate Market Pulse" \n\nFeaturing Speaker:\n\nRay Duran\, Broker /Owner\n\nL.A. Real Estate Networking Inc. A+BBB Rating\n\nMontebello Resident & Montebello Business Owner\n\n\n\nPlease RSVP at (323) 721-1153 or online at www.montebellochamber.org
X-ALT-DESC;FMTTYPE=text/html:<strong>Business Seminar</strong><br />\nA&nbsp\;<strong><span style="color: rgb(0\, 0\, 255)\;">FREE</span></strong> educational seminar every month<br />\nPresented By: The Montebello Chamber of Commerce<br />\nAn opportunity for business owners and employees to learn and improve your skills.<br />\n<strong><span style="color: rgb(0\, 0\, 205)\;">&quot\;Real Estate Market Pulse&quot\; </span></strong><br />\nFeaturing Speaker:<br />\n<strong>Ray&nbsp\;Duran\, Broker&nbsp\;/Owner</strong><br />\nL.A. Real Estate Networking Inc. A+BBB Rating<br />\nMontebello Resident &amp\; Montebello Business Owner<br />\n<br />\n<strong><span style="color: rgb(0\, 0\, 0)\;">Please RSVP at (323) 721-1153 or online at </span><a href="http://www.montebellochamber.org"><span style="color: rgb(0\, 0\, 0)\;">www.montebellochamber.org</span></a></strong><br />\n&nbsp\;
LOCATION:Montebello Chamber of Commerce 109 N. 19th Street Montebello\, CA 90640 (Parking in Lot across the street)
UID:e.1156.1383
SEQUENCE:3
DTSTAMP:20260419T190341Z
URL:https://www.montebellochamber.org/events/details/business-seminar-real-estate-market-pulse-04-16-2015-1383
END:VEVENT

END:VCALENDAR
