BEGIN:VCALENDAR
VERSION:2.0
PRODID:-//ChamberMaster//Event Calendar 2.0//EN
METHOD:PUBLISH
X-PUBLISHED-TTL:P3D
REFRESH-INTERVAL:P3D
CALSCALE:GREGORIAN
BEGIN:VEVENT
DTSTART:20141017T000000Z
DTEND:20141017T013000Z
X-MICROSOFT-CDO-ALLDAYEVENT:FALSE
SUMMARY:Business Series 101: CEO & MeetUp- 5 Tips to Prepare for an Audit
DESCRIPTION:Business 101 Series: A new informational and educational series that will offer a variety of topics.\n\n\n\nEducational & Networking CEO MeetUp\, Presented by 10\,000 Small Businesses Alumna: Dana Smith\, Founder and President of Exalt Resources\, LLC\n\nTopic: Ding Dong: The Department of Labor is at your Door. Now What? 5 Tips to Prepare for an Audit\n\n\n\nRSVP is required. Space is limited. RSVP by 10/10/14
X-ALT-DESC;FMTTYPE=text/html:Business 101 Series: A new informational and educational series that will offer a variety of topics.<br />\n<br />\n<strong>Educational &amp\; Networking CEO MeetUp\, Presented by 10\,000 Small Businesses Alumna: Dana Smith\, Founder and President of Exalt Resources\, LLC<br />\nTopic: Ding Dong: The Department of Labor is at your Door. Now What? 5 Tips to Prepare for an Audit<br />\n<br />\nRSVP is required. Space is limited. RSVP by 10/10/14</strong><br />\n&nbsp\;
LOCATION:Montebello Chamber of Commerce 109 N. 19th St. \, Montebello CA 90640
UID:e.1156.1094
SEQUENCE:3
DTSTAMP:20260419T130904Z
URL:https://www.montebellochamber.org/events/details/business-series-101-ceo-meetup-5-tips-to-prepare-for-an-audit-10-16-2014-1094
END:VEVENT

END:VCALENDAR
