BEGIN:VCALENDAR
VERSION:2.0
PRODID:-//ChamberMaster//Event Calendar 2.0//EN
METHOD:PUBLISH
X-PUBLISHED-TTL:P3D
REFRESH-INTERVAL:P3D
CALSCALE:GREGORIAN
BEGIN:VEVENT
DTSTART:20120914T153000Z
DTEND:20120914T180000Z
X-MICROSOFT-CDO-ALLDAYEVENT:FALSE
SUMMARY:California State Senator Ron Calderon - Free Small Business Seminar
DESCRIPTION:California State Senator Ron Calderon \n\ninvites you to a \n\nFree Small Business Seminar\n\nLearn about legislation that affects your business and what state agencies can do to assist you.\n\n\n\nParticipating agencies:\n\nEmployment Development Department: Identifying new financial opportunities and resources - ways to hire new employees and veterans and receive tax credit.\n\n\n\nSmall Business Development Centers: Strategies to grow your business and hire new employees - ways to receive a loan for your business.\n\n\n\nIn collaboration with\n\nSouthern California Edison - Southern California Gas Company - Montebello Chamber of Commerce - Pico Rivera Chamber of Commerce - Industrial Council Chamber of Commerce - Bell Gardens Chamber of Commerce - El Monte/South El Monte Chamber of Commerce - East Los Angeles Chamber of Commerce - Maravilla Business Persons Association - Whittier Boulevard Merchants Association\n\n\n\nRepresentatives from EDD and SBDC will be available for one-on-one consultations.
X-ALT-DESC;FMTTYPE=text/html:<strong>California State Senator Ron Calderon </strong><br />\n<em>invites you to a </em><br />\n<strong>Free Small Business Seminar</strong><br />\nLearn about legislation that affects your business and what state agencies can do to assist you.<br />\n<br />\n<em>Participating agencies:</em><br />\n<strong>Employment Development Department: </strong>Identifying new financial opportunities and resources - ways to hire new employees and veterans and receive tax credit.<br />\n<br />\n<strong>Small Business Development Centers: </strong>Strategies to grow your business and hire new employees - ways to receive a loan for your business.<br />\n<br />\n<em>In collaboration with</em><br />\nSouthern California Edison - Southern California Gas Company - Montebello Chamber of Commerce - Pico Rivera Chamber of Commerce - Industrial Council Chamber of Commerce - Bell Gardens Chamber of Commerce - El Monte/South El Monte Chamber of Commerce - East Los Angeles Chamber of Commerce - Maravilla Business Persons Association - Whittier Boulevard Merchants Association<br />\n<br />\n<strong>Representatives from EDD and SBDC will be available for one-on-one consultations.</strong><br />\n
LOCATION:Hilton Garden Inn 801 Via San Clemente (Montebello Golf Course) Montebello\, CA 90640
UID:e.1156.652
SEQUENCE:3
DTSTAMP:20260420T004758Z
URL:https://www.montebellochamber.org/events/details/california-state-senator-ron-calderon-free-small-business-seminar-09-14-2012-652
END:VEVENT

END:VCALENDAR
