BEGIN:VCALENDAR
VERSION:2.0
PRODID:-//ChamberMaster//Event Calendar 2.0//EN
METHOD:PUBLISH
X-PUBLISHED-TTL:P3D
REFRESH-INTERVAL:P3D
CALSCALE:GREGORIAN
BEGIN:VEVENT
DTSTART:20150123T010000Z
DTEND:20150123T023000Z
X-MICROSOFT-CDO-ALLDAYEVENT:FALSE
SUMMARY:CANCELED: Business 101: Educational Series- Increase Revenue with the Correct Digital Marketing Strategy
DESCRIPTION:Goldman Sachs 10\,000 Small Businesses"Increase Revenue with the Correct Digital Marketing Strategy" Featuring Speaker: Daniel Burns\, CEO & Founder\, DBurns\n\n\n\nDaniel Burns built a Digital Agency with the conviction that every endeavor can be a success. Daniel has a proven track record of driving revenue gains and brand awareness through intelligent use of digital media. DBurns is a multi-cultural team of Strategists\, Designers and Developers that are passionate for creating Digital Solutions with a focus on generating results.
X-ALT-DESC;FMTTYPE=text/html:<span style="font-size:12px\;"><span style="color:#0000CD\;">Goldman Sachs 10\,000 Small Businesses&quot\;Increase Revenue with the Correct Digital Marketing Strategy&quot\; Featuring Speaker: Daniel Burns\, CEO &amp\; Founder\, DBurns</span><br />\n<br />\n<strong>Daniel Burns built a Digital Agency with the conviction that every endeavor can be a success. Daniel has a proven track record of driving revenue gains and brand awareness through intelligent use of digital media. DBurns is a multi-cultural team of Strategists\, Designers and Developers that are passionate for creating Digital Solutions with a focus on generating results.</strong></span>
LOCATION:Montebello Chamber of Commerce Conference Room 109 N. 19th St. Montebello\, CA 90640
UID:e.1156.1344
SEQUENCE:3
DTSTAMP:20260419T143836Z
URL:https://www.montebellochamber.org/events/details/canceled-business-101-educational-series-increase-revenue-with-the-correct-digital-marketing-strategy-01-22-2015-1344
END:VEVENT

END:VCALENDAR
