BEGIN:VCALENDAR
VERSION:2.0
PRODID:-//ChamberMaster//Event Calendar 2.0//EN
METHOD:PUBLISH
X-PUBLISHED-TTL:P3D
REFRESH-INTERVAL:P3D
CALSCALE:GREGORIAN
BEGIN:VEVENT
DTSTART;VALUE=DATE:20200425
DTEND;VALUE=DATE:20200426
TRANSP:TRANSPARENT
X-MICROSOFT-CDO-ALLDAYEVENT:TRUE
SUMMARY:CANCELLED-Bosco Tech Black and Gold Gala
DESCRIPTION:Here's to 65 years: Lights\, Camera\, Action!\n\nBosco Tech Black and Gold Gala
X-ALT-DESC;FMTTYPE=text/html:Here&#39\;s to 65 years: Lights\, Camera\, Action!<br />\nBosco Tech Black and Gold Gala&nbsp\;
LOCATION:1151 San Gabriel Blvd\, Rosemead CA 91770
UID:e.1156.3647
SEQUENCE:3
DTSTAMP:20260419T090839Z
URL:https://www.montebellochamber.org/events/details/cancelled-bosco-tech-black-and-gold-gala-3647
END:VEVENT

END:VCALENDAR
