BEGIN:VCALENDAR
VERSION:2.0
PRODID:-//ChamberMaster//Event Calendar 2.0//EN
METHOD:PUBLISH
X-PUBLISHED-TTL:P3D
REFRESH-INTERVAL:P3D
CALSCALE:GREGORIAN
BEGIN:VEVENT
DTSTART;VALUE=DATE:20200710
DTEND;VALUE=DATE:20200711
TRANSP:TRANSPARENT
X-MICROSOFT-CDO-ALLDAYEVENT:TRUE
SUMMARY:CANCELLED: Drive-In Movie Night
DESCRIPTION:The Shops at Montebello & City of Montebello presents DRIVE-IN MOVIE NIGHT!! Join in for a FUN AND FREE summer series!  Visit shopsatmontebello.com/events for a full list of movie listings.  Grab dinner at one of the The Shops at Montebello's restaurants and enjoy from the comfort of your car.  RSVP required/Spaces LIMITED.
X-ALT-DESC;FMTTYPE=text/html:The Shops at Montebello &amp\; City of Montebello presents DRIVE-IN MOVIE NIGHT!! Join in for a FUN AND FREE summer series!&nbsp\; Visit shopsatmontebello.com/events for a full list of movie listings.&nbsp\; Grab dinner at one of the The Shops at Montebello&#39\;s restaurants and enjoy from the comfort of your car.&nbsp\; RSVP required/Spaces LIMITED.
LOCATION:The Shops at Montebello 2134 Montebello Town Center Montebello\, CA 90640
UID:e.1156.3733
SEQUENCE:3
DTSTAMP:20260419T160245Z
URL:https://www.montebellochamber.org/events/details/cancelled-drive-in-movie-night-3733
END:VEVENT

END:VCALENDAR
