BEGIN:VCALENDAR
VERSION:2.0
PRODID:-//ChamberMaster//Event Calendar 2.0//EN
METHOD:PUBLISH
X-PUBLISHED-TTL:P3D
REFRESH-INTERVAL:P3D
CALSCALE:GREGORIAN
BEGIN:VEVENT
DTSTART:20201101T003000Z
DTEND:20201101T033000Z
X-MICROSOFT-CDO-ALLDAYEVENT:FALSE
SUMMARY:Candy Crawl
DESCRIPTION:City of Montebello CANDY CRAWL!!! \n\nSponsors:  Lions Club\, Rotary Club & Soroptimist Club
X-ALT-DESC;FMTTYPE=text/html:City of Montebello CANDY CRAWL!!!&nbsp\;<br />\nSponsors:&nbsp\; Lions Club\, Rotary Club &amp\; Soroptimist Club
LOCATION:-Chet Holifield Park 1060 Greenwood Ave Montebello\, CA 90640 -Montebello City Park 1301 W. Whittier Blvd. Montebello\, CA 90640 -Taylor Ranch Park 737 N. Montebello Blvd. Montebello\, CA 90640 -Reggie Rodriguez Park 200 W. Mines Ave. Montebello\, CA 90640
UID:e.1156.3777
SEQUENCE:3
DTSTAMP:20260423T052621Z
URL:https://www.montebellochamber.org/events/details/candy-crawl-3777
END:VEVENT

END:VCALENDAR
