BEGIN:VCALENDAR
VERSION:2.0
PRODID:-//ChamberMaster//Event Calendar 2.0//EN
METHOD:PUBLISH
X-PUBLISHED-TTL:P3D
REFRESH-INTERVAL:P3D
CALSCALE:GREGORIAN
BEGIN:VEVENT
DTSTART:20190517T181500Z
DTEND:20190518T020000Z
X-MICROSOFT-CDO-ALLDAYEVENT:FALSE
SUMMARY:Cardinal Classic Golf Tournament
DESCRIPTION:Cantwell Sacred Heart of Mary High School \n\nCARDINAL CLASSIC GOLF TOURNAMENT\n\nAll proceeds benefit the CSHM tuition Assistance Fund!!
X-ALT-DESC;FMTTYPE=text/html:Cantwell Sacred Heart of Mary High School&nbsp\;<br />\nCARDINAL CLASSIC GOLF TOURNAMENT<br />\nAll proceeds benefit the CSHM tuition Assistance Fund!!&nbsp\;<br />\n&nbsp\;
LOCATION:Whittier Narrows Golf Course 8640 Rush Street Rosemead\, CA 91770
UID:e.1156.3302
SEQUENCE:3
DTSTAMP:20260419T130216Z
URL:https://www.montebellochamber.org/events/details/cardinal-classic-golf-tournament-3302
END:VEVENT

END:VCALENDAR
