BEGIN:VCALENDAR
VERSION:2.0
PRODID:-//ChamberMaster//Event Calendar 2.0//EN
METHOD:PUBLISH
X-PUBLISHED-TTL:P3D
REFRESH-INTERVAL:P3D
CALSCALE:GREGORIAN
BEGIN:VEVENT
DTSTART:20170715T160000Z
DTEND:20170715T220000Z
X-MICROSOFT-CDO-ALLDAYEVENT:FALSE
SUMMARY:Cars & Guitars
DESCRIPTION:Guitars & More Featuring: The Altar Billies & The Swinging 8-Balls bands. Musician Swap Meet \n\nSupported by Gretsch Guitars
X-ALT-DESC;FMTTYPE=text/html:Guitars &amp\; More Featuring: The Altar Billies&nbsp\;&amp\; The Swinging 8-Balls bands. Musician Swap Meet&nbsp\;<br />\nSupported by Gretsch Guitars
LOCATION:Montebello City Park 1401 W. Whittier Blvd\, Montebello (between Whittier and Olympic Blvd's)
UID:e.1156.1731
SEQUENCE:3
DTSTAMP:20260419T130239Z
URL:https://www.montebellochamber.org/events/details/cars-guitars-1731
END:VEVENT

END:VCALENDAR
