BEGIN:VCALENDAR
VERSION:2.0
PRODID:-//ChamberMaster//Event Calendar 2.0//EN
METHOD:PUBLISH
X-PUBLISHED-TTL:P3D
REFRESH-INTERVAL:P3D
CALSCALE:GREGORIAN
BEGIN:VEVENT
DTSTART:20190125T023000Z
DTEND:20190125T060000Z
X-MICROSOFT-CDO-ALLDAYEVENT:FALSE
SUMMARY:Cask Night @ Angry Horse Brewing
DESCRIPTION:Tap that cask! Every 4th Thursday of the month we will debut a new cask. We'll be tapping the cask at 6:30pm.\nThis month we're featuring our Gettin' Warmer\, American Stout with black berries and chocolate syrup.
X-ALT-DESC;FMTTYPE=text/html:<p style="white-space: pre-wrap\;">Tap that cask! Every 4th Thursday of the month we will debut a new cask.&nbsp\;We&rsquo\;ll be tapping the cask at 6:30pm.</p>\nThis month we&rsquo\;re featuring our Gettin&rsquo\; Warmer\, American Stout with black berries and chocolate syrup.
LOCATION:Angry Horse Brewing 603 West Whittier Boulevard Montebello\, CA\, 90640
UID:e.1156.3198
SEQUENCE:3
DTSTAMP:20260419T160114Z
URL:https://www.montebellochamber.org/events/details/cask-night-angry-horse-brewing-3198
END:VEVENT

END:VCALENDAR
