BEGIN:VCALENDAR
VERSION:2.0
PRODID:-//ChamberMaster//Event Calendar 2.0//EN
METHOD:PUBLISH
X-PUBLISHED-TTL:P3D
REFRESH-INTERVAL:P3D
CALSCALE:GREGORIAN
BEGIN:VEVENT
DTSTART:20181006T210000Z
DTEND:20181006T210000Z
X-MICROSOFT-CDO-ALLDAYEVENT:FALSE
SUMMARY:Celebrity Appearance: Darrell Thomas & Dennis Powell
DESCRIPTION:Harry's Sports Memorabilia & Barber Shop \n\nDarrell Thomas & Dennis Powell Special Appearance at Harry's Dugout!\n\n\n\nDarrell Thomas\n\n$20 any item\n\n$10 inscriptions\n\n$10 Beckett\n\n\n\nDennis Powell\n\n$15 any item\n\n$10 inscriptions\n\n$10 Beckett\n\n\n\nBaseballs\, photos and cards will be available for purchase day of event.
X-ALT-DESC;FMTTYPE=text/html:Harry&#39\;s Sports Memorabilia &amp\; Barber Shop&nbsp\;<br />\nDarrell Thomas &amp\; Dennis Powell Special Appearance at Harry&#39\;s Dugout!<br />\n<br />\n<span>Darrell Thomas<br />\n$20 any item<br />\n$10 inscriptions<br />\n$10 Beckett<br />\n<br />\nDennis Powell<br />\n$15 any item<br />\n$10 inscriptions<br />\n$10 Beckett<br />\n<br />\nBaseballs\, photos and cards will be available for purchase day of event.</span>
LOCATION:1435 N. Montebello Blvd. Montebello\, CA 90640
UID:e.1156.2884
SEQUENCE:3
DTSTAMP:20260419T185140Z
URL:https://www.montebellochamber.org/events/details/celebrity-appearance-darrell-thomas-dennis-powell-2884
END:VEVENT

END:VCALENDAR
