BEGIN:VCALENDAR
VERSION:2.0
PRODID:-//ChamberMaster//Event Calendar 2.0//EN
METHOD:PUBLISH
X-PUBLISHED-TTL:P3D
REFRESH-INTERVAL:P3D
CALSCALE:GREGORIAN
BEGIN:VEVENT
DTSTART:20181208T200000Z
DTEND:20181208T210000Z
X-MICROSOFT-CDO-ALLDAYEVENT:FALSE
SUMMARY:Celebrity from Bronx Tale at Harry's Sports Memorabilia & Barber Shop
DESCRIPTION:Lillo Brancato "Calogero" from Bronx Tale will be at Harry's!!
X-ALT-DESC;FMTTYPE=text/html:Lillo Brancato &quot\;Calogero&quot\; from Bronx Tale will be at Harry&#39\;s!!&nbsp\;
LOCATION:1435 N. Montebello Blvd. Montebello\, CA 90640
UID:e.1156.3116
SEQUENCE:3
DTSTAMP:20260419T160916Z
URL:https://www.montebellochamber.org/events/details/celebrity-from-bronx-tale-at-harry-s-sports-memorabilia-barber-shop-3116
END:VEVENT

END:VCALENDAR
