BEGIN:VCALENDAR
VERSION:2.0
PRODID:-//ChamberMaster//Event Calendar 2.0//EN
METHOD:PUBLISH
X-PUBLISHED-TTL:P3D
REFRESH-INTERVAL:P3D
CALSCALE:GREGORIAN
BEGIN:VEVENT
DTSTART:20120424T150000Z
DTEND:20120424T160000Z
X-MICROSOFT-CDO-ALLDAYEVENT:FALSE
SUMMARY:Chamber Connections Breakfast Mixer
DESCRIPTION:Join our Chamber Connections group for their yearly breakfast mixer! Network amongst your peers\, generate new business leads and build relationships.\n\n\n\nChamber Connections is the Chambers Leads group designed to offer business networking opportunities to non-competitive business owners and key managers representing select member firms of the Montebello Chamber of Commerce. Only one member from each kind of business is able to join (one bank\, one realtor\, etc.)\, and must be members in good standing of the Chamber and abide by all program rules. The program affords opportunities for new business\, personal development\, and friendship. Chamber Connections group meets weekly to exchange new business leads and to discuss growth opportunities in the Montebello and surrounding areas. Meeting are held every Tuesday morning\, 8:00 a.m. at the Montebello Chamber of Commerce.
X-ALT-DESC;FMTTYPE=text/html:Join our Chamber Connections group for their yearly breakfast mixer! Network amongst&nbsp\;your peers\, generate new business leads and build relationships.<br />\n<br />\n<em>Chamber Connections is the&nbsp\;Chambers Leads group designed to&nbsp\;offer business networking opportunities to non-competitive business owners and key managers representing select member firms of the Montebello Chamber of Commerce. Only one member from each kind of business is able to join (one bank\, one realtor\, etc.)\, and must be members in good standing of the Chamber and abide by all program rules. The program affords opportunities for new business\, personal development\, and friendship. Chamber Connections group meets weekly to exchange new business leads and to discuss growth opportunities in the Montebello and surrounding areas. Meeting are held every Tuesday morning\, 8:00 a.m. at the&nbsp\;Montebello&nbsp\;Chamber of Commerce. </em><span _fck_bookmark="1" style="display: none">&nbsp\;</span>
LOCATION:Home Town Buffet 875 N. Wilcox Ave. Montebello\, Ca 90640
UID:e.1156.428
SEQUENCE:3
DTSTAMP:20260420T095713Z
URL:https://www.montebellochamber.org/events/details/chamber-connections-breakfast-mixer-04-24-2012-428
END:VEVENT

END:VCALENDAR
