BEGIN:VCALENDAR
VERSION:2.0
PRODID:-//ChamberMaster//Event Calendar 2.0//EN
METHOD:PUBLISH
X-PUBLISHED-TTL:P3D
REFRESH-INTERVAL:P3D
CALSCALE:GREGORIAN
BEGIN:VEVENT
DTSTART:20190611T150000Z
DTEND:20190611T150000Z
X-MICROSOFT-CDO-ALLDAYEVENT:FALSE
SUMMARY:Chamber Connections-Open House
DESCRIPTION:Chamber Connections-A Professional Leads Referral Organization \n\nConnect with us.  Chamber Connections offers a unique and specialized opportunity for our local businesses to network with other members of the Connection group.
X-ALT-DESC;FMTTYPE=text/html:Chamber Connections-A Professional Leads Referral Organization&nbsp\;<br />\nConnect with us.&nbsp\; Chamber Connections offers a unique and specialized opportunity for our local businesses to network with other members of the Connection group.&nbsp\;
LOCATION:Montebello Chamber of Commerce 109 N. 19th Street Montebello\, CA 90640
UID:e.1156.3311
SEQUENCE:3
DTSTAMP:20260419T130222Z
URL:https://www.montebellochamber.org/events/details/chamber-connections-open-house-3311
END:VEVENT

END:VCALENDAR
