BEGIN:VCALENDAR
VERSION:2.0
PRODID:-//ChamberMaster//Event Calendar 2.0//EN
METHOD:PUBLISH
X-PUBLISHED-TTL:P3D
REFRESH-INTERVAL:P3D
CALSCALE:GREGORIAN
BEGIN:VEVENT
DTSTART:20190106T010000Z
DTEND:20190106T060000Z
X-MICROSOFT-CDO-ALLDAYEVENT:FALSE
SUMMARY:Charlie's at Angry Horse Brewing
DESCRIPTION:Charlie's at Angry Horse Brewing\n\nCharlie's Catering will be parked up at the taproom serving some of your favorite finger foods!\n\nTacos\, Quesadillas\, Churros\, Bacon wrapped Hot Dogs...they'll also have their aguas frescas.
X-ALT-DESC;FMTTYPE=text/html:Charlie&#39\;s at Angry Horse Brewing<br />\nCharlie&#39\;s Catering will be parked up at the taproom serving some of your favorite finger foods!<br />\nTacos\, Quesadillas\, Churros\, Bacon wrapped Hot Dogs...they&#39\;ll also have their aguas frescas.
LOCATION:Angry Horse Brewing 603 W. Whittier Blvd. Montebello\, CA 90640
UID:e.1156.3142
SEQUENCE:3
DTSTAMP:20260419T160335Z
URL:https://www.montebellochamber.org/events/details/charlie-s-at-angry-horse-brewing-3142
END:VEVENT

END:VCALENDAR
