BEGIN:VCALENDAR
VERSION:2.0
PRODID:-//ChamberMaster//Event Calendar 2.0//EN
METHOD:PUBLISH
X-PUBLISHED-TTL:P3D
REFRESH-INTERVAL:P3D
CALSCALE:GREGORIAN
BEGIN:VEVENT
DTSTART:20190415T190000Z
DTEND:20190415T210000Z
X-MICROSOFT-CDO-ALLDAYEVENT:FALSE
SUMMARY:"Chill Out" Day at Camino FCU
DESCRIPTION:Join Camino Federal Credit Union presents "Chill Out" Day with shaved ice truck!!\n\nTo relieve taxpayers of the stress associated with meeting the federal deadline. FREE cups of tropical shaved ice will be passed out to all who stop by.  The refreshing treat will ensure that there is no taxation without relaxation this tax season.
X-ALT-DESC;FMTTYPE=text/html:Join Camino Federal Credit Union presents &quot\;Chill Out&quot\; Day with shaved ice truck!!<br />\nTo relieve taxpayers of the stress associated with meeting the federal deadline. FREE cups of tropical shaved ice will be passed out to all who stop by.&nbsp\; The refreshing treat will ensure that there is no taxation without relaxation this tax season.&nbsp\;&nbsp\;
LOCATION:Camino Federal Credit Union 520 N. Taylor Ave. Montebello\, CA 90640
UID:e.1156.3273
SEQUENCE:3
DTSTAMP:20260419T143709Z
URL:https://www.montebellochamber.org/events/details/chill-out-day-at-camino-fcu-3273
END:VEVENT

END:VCALENDAR
