BEGIN:VCALENDAR
VERSION:2.0
PRODID:-//ChamberMaster//Event Calendar 2.0//EN
METHOD:PUBLISH
X-PUBLISHED-TTL:P3D
REFRESH-INTERVAL:P3D
CALSCALE:GREGORIAN
BEGIN:VEVENT
DTSTART:20190410T000000Z
DTEND:20190410T040000Z
X-MICROSOFT-CDO-ALLDAYEVENT:FALSE
SUMMARY:Chipotle Fundraiser for Creative Brain Learning
DESCRIPTION:Come join Chipotle!  Make dinner a selfless act by joining us for a fundraier to support Creative Brain Learning.
X-ALT-DESC;FMTTYPE=text/html:Come join Chipotle!&nbsp\; Make dinner a selfless act by joining us for a fundraier to support Creative Brain Learning.&nbsp\;&nbsp\;
LOCATION:Chipotle 545 N. Montebello Blvd. Suite B Montebello\, CA 90640
UID:e.1156.3280
SEQUENCE:3
DTSTAMP:20260419T142924Z
URL:https://www.montebellochamber.org/events/details/chipotle-fundraiser-for-creative-brain-learning-3280
END:VEVENT

END:VCALENDAR
