BEGIN:VCALENDAR
VERSION:2.0
PRODID:-//ChamberMaster//Event Calendar 2.0//EN
METHOD:PUBLISH
X-PUBLISHED-TTL:P3D
REFRESH-INTERVAL:P3D
CALSCALE:GREGORIAN
BEGIN:VEVENT
DTSTART;VALUE=DATE:20190709
DTEND;VALUE=DATE:20190710
TRANSP:TRANSPARENT
X-MICROSOFT-CDO-ALLDAYEVENT:TRUE
SUMMARY:Chipotle Fundraiser for CSHM Girls Volleyball
DESCRIPTION:Show your team spirit!  Join us for a fundraiser to support Cantwell-Sacred Heart of Mary High School Girls Volleyball!
X-ALT-DESC;FMTTYPE=text/html:Show your team spirit!&nbsp\; Join us for a fundraiser to support Cantwell-Sacred Heart of Mary High School Girls Volleyball!&nbsp\;&nbsp\;
LOCATION:Chipotle Mexican Grill 545 N. Montebello Blvd. Suite B Montebello\, CA 90640
UID:e.1156.3343
SEQUENCE:3
DTSTAMP:20260419T124607Z
URL:https://www.montebellochamber.org/events/details/chipotle-fundraiser-for-cshm-girls-volleyball-3343
END:VEVENT

END:VCALENDAR
