BEGIN:VCALENDAR
VERSION:2.0
PRODID:-//ChamberMaster//Event Calendar 2.0//EN
METHOD:PUBLISH
X-PUBLISHED-TTL:P3D
REFRESH-INTERVAL:P3D
CALSCALE:GREGORIAN
BEGIN:VEVENT
DTSTART:20190501T000000Z
DTEND:20190501T040000Z
X-MICROSOFT-CDO-ALLDAYEVENT:FALSE
SUMMARY:Chipotle Fundraiser for Girls' League/Schurr High School
DESCRIPTION:Chipotle Fundraise!! Make dinner a selfless act by joining us for a fundraiser to support Girls' League/Schurr High School.  Bring in this flyer\, whow it on your smartphone or tell the cashier you're supporting the cause to make sure that 33% of the proceeds will be donated to Girls' League!
X-ALT-DESC;FMTTYPE=text/html:Chipotle Fundraise!! Make dinner a selfless act by joining us for a fundraiser to support Girls&#39\; League/Schurr High School.&nbsp\; Bring in this flyer\, whow it on your smartphone or tell the cashier you&#39\;re supporting the cause to make sure that 33% of the proceeds will be donated to Girls&#39\; League!
LOCATION:Chipotle 545 N. Montebello Blvd. Suite B Montebello\, CA 90640
UID:e.1156.3287
SEQUENCE:3
DTSTAMP:20260419T143709Z
URL:https://www.montebellochamber.org/events/details/chipotle-fundraiser-for-girls-league-schurr-high-school-3287
END:VEVENT

END:VCALENDAR
