BEGIN:VCALENDAR
VERSION:2.0
PRODID:-//ChamberMaster//Event Calendar 2.0//EN
METHOD:PUBLISH
X-PUBLISHED-TTL:P3D
REFRESH-INTERVAL:P3D
CALSCALE:GREGORIAN
BEGIN:VEVENT
DTSTART:20190408T230000Z
DTEND:20190409T030000Z
X-MICROSOFT-CDO-ALLDAYEVENT:FALSE
SUMMARY:Chipotle Fundraiser For Montebello High School Girls Basketball
DESCRIPTION:Come in to Chipotle!! Show your team spirit by joining us for a fundraiser to support Montebello High School Girls Basketball.
X-ALT-DESC;FMTTYPE=text/html:Come in to Chipotle!! Show your team spirit by joining us for a fundraiser to support Montebello High School Girls Basketball.&nbsp\;
LOCATION:Chipotle 545 N. Montebello Blvd. Suite B Montebello\, CA 90640
UID:e.1156.3279
SEQUENCE:3
DTSTAMP:20260419T185733Z
URL:https://www.montebellochamber.org/events/details/chipotle-fundraiser-for-montebello-high-school-girls-basketball-3279
END:VEVENT

END:VCALENDAR
