BEGIN:VCALENDAR
VERSION:2.0
PRODID:-//ChamberMaster//Event Calendar 2.0//EN
METHOD:PUBLISH
X-PUBLISHED-TTL:P3D
REFRESH-INTERVAL:P3D
CALSCALE:GREGORIAN
BEGIN:VEVENT
DTSTART:20190903T000000Z
DTEND:20190903T040000Z
X-MICROSOFT-CDO-ALLDAYEVENT:FALSE
SUMMARY:Chipotle-Schurr High Spartan Football Fundraiser
DESCRIPTION:Show your team spirit by joining us for a fundraiser to support Schurr High Spartan Football.  Come in to the Montebello Chipotle and bring in this flyer\, show it on your smartphone or tell the cashier you're supporting the cause to make sure that 33% of the proceeds will be donated to Schurr High Spartan Football.
X-ALT-DESC;FMTTYPE=text/html:Show your team spirit by joining us for a fundraiser to support Schurr High Spartan Football.&nbsp\; Come in to the Montebello Chipotle and bring in this flyer\, show it on your smartphone or tell the cashier you&#39\;re supporting the cause to make sure that 33% of the proceeds will be donated to Schurr High Spartan Football.&nbsp\;
LOCATION:Chipotle Mexican Grill 545 North Montebello Blvd. Montebello\, CA 90640
UID:e.1156.3412
SEQUENCE:3
DTSTAMP:20260419T173749Z
URL:https://www.montebellochamber.org/events/details/chipotle-schurr-high-spartan-football-fundraiser-3412
END:VEVENT

END:VCALENDAR
