BEGIN:VCALENDAR
VERSION:2.0
PRODID:-//ChamberMaster//Event Calendar 2.0//EN
METHOD:PUBLISH
X-PUBLISHED-TTL:P3D
REFRESH-INTERVAL:P3D
CALSCALE:GREGORIAN
BEGIN:VEVENT
DTSTART:20131204T190000Z
DTEND:20131204T220000Z
X-MICROSOFT-CDO-ALLDAYEVENT:FALSE
SUMMARY:Christmas with the Police Chief
DESCRIPTION:Enjoy a wonderful  lunch with police Chief Kevin McClure\, celebrating our community spirit.\n\nHosted by Montebello service clubs and sponsored by Montebello businesses.\n\nBring a toy to be distributed to the less fortunate or a bag of canned goods for the senior\n\ncenter food pantry. Sponsorship dollars support the PAL program & National Night Out\n\nMark your calendar and tell a friend
X-ALT-DESC;FMTTYPE=text/html:Enjoy a wonderful&nbsp\; lunch with police Chief Kevin McClure\, celebrating our community spirit.<br />\nHosted by Montebello service clubs and sponsored by Montebello businesses.<br />\nBring a toy to be distributed to the less fortunate or a bag of canned goods for the senior<br />\ncenter food pantry. Sponsorship dollars support the PAL program &amp\; National Night Out<br />\nMark your calendar and tell a friend
LOCATION:Montebello Senior Center
UID:e.1156.911
SEQUENCE:3
DTSTAMP:20260419T220615Z
URL:https://www.montebellochamber.org/events/details/christmas-with-the-police-chief-12-04-2013-911
END:VEVENT

END:VCALENDAR
