BEGIN:VCALENDAR
VERSION:2.0
PRODID:-//ChamberMaster//Event Calendar 2.0//EN
METHOD:PUBLISH
X-PUBLISHED-TTL:P3D
REFRESH-INTERVAL:P3D
CALSCALE:GREGORIAN
BEGIN:VEVENT
DTSTART:20191204T000000Z
DTEND:20191204T040000Z
X-MICROSOFT-CDO-ALLDAYEVENT:FALSE
SUMMARY:Christmas Wonderland
DESCRIPTION:Armenian Mesrobian Ron and Goharik Gabriel Preschool will host a Christmas Wonderland for children on its campus. There will be:\n\n \n\n\n\n  snow\n\n\n\n  tree lighting \n\n\n\n  visit from Santa\n\n\n\n  presents\n\n\n\n  photo booth \n\n\n\n  Food\, fun\, family \n\n\n\n  free admission \n\n\n\n  open to the community
X-ALT-DESC;FMTTYPE=text/html:<div>\n<p style="font-size:12pt\;font-family:Times New Roman\,serif\;margin:0\;">Armenian Mesrobian Ron and Goharik Gabriel Preschool will host a Christmas Wonderland for children on its campus. There will be:<br />\n&nbsp\;</p>\n</div>\n\n<div>\n<p style="font-size:12pt\;font-family:Times New Roman\,serif\;margin:0\;">&#9989\; snow</p>\n</div>\n\n<div>\n<p style="font-size:12pt\;font-family:Times New Roman\,serif\;margin:0\;">&#9989\; tree lighting&nbsp\;</p>\n</div>\n\n<div>\n<p style="font-size:12pt\;font-family:Times New Roman\,serif\;margin:0\;">&#9989\; visit from Santa</p>\n</div>\n\n<div>\n<p style="font-size:12pt\;font-family:Times New Roman\,serif\;margin:0\;">&#9989\; presents</p>\n</div>\n\n<div>\n<p style="font-size:12pt\;font-family:Times New Roman\,serif\;margin:0\;">&#9989\; photo booth&nbsp\;</p>\n</div>\n\n<div>\n<p style="font-size:12pt\;font-family:Times New Roman\,serif\;margin:0\;">&#9989\; Food\, fun\, family&nbsp\;</p>\n</div>\n\n<div>\n<p style="font-size:12pt\;font-family:Times New Roman\,serif\;margin:0\;">&#9989\; free admission&nbsp\;</p>\n</div>\n\n<div>\n<p style="font-size:12pt\;font-family:Times New Roman\,serif\;margin:0\;">&#9989\; open to the community</p>\n</div>\n\n<div>\n<p style="font-size:12pt\;font-family:Times New Roman\,serif\;margin:0\;">&nbsp\;</p>\n</div>\n\n<div>\n<p style="font-size:12pt\;font-family:Times New Roman\,serif\;margin:0\;">&nbsp\;</p>\n</div>\n
LOCATION:Armenian Mesrobian Ron and Goharik Gabriel Preschool 8420 Beverly Rd. Pico Rivera\, CA 90660
UID:e.1156.3463
SEQUENCE:3
DTSTAMP:20260419T130238Z
URL:https://www.montebellochamber.org/events/details/christmas-wonderland-3463
END:VEVENT

END:VCALENDAR
