BEGIN:VCALENDAR
VERSION:2.0
PRODID:-//ChamberMaster//Event Calendar 2.0//EN
METHOD:PUBLISH
X-PUBLISHED-TTL:P3D
REFRESH-INTERVAL:P3D
CALSCALE:GREGORIAN
BEGIN:VEVENT
DTSTART:20190917T170000Z
DTEND:20190917T210000Z
X-MICROSOFT-CDO-ALLDAYEVENT:FALSE
SUMMARY:City of Montebello-Art Exhibit
DESCRIPTION:City of Montebello "Celebra La Vida Con Arte" \n\nArt Exhibit
X-ALT-DESC;FMTTYPE=text/html:City of Montebello &quot\;Celebra La Vida Con Arte&quot\;&nbsp\;<br />\nArt Exhibit
LOCATION:Senior Center 115 S. Taylor Ave Montebello\, CA 90640
UID:e.1156.3437
SEQUENCE:3
DTSTAMP:20260420T065606Z
URL:https://www.montebellochamber.org/events/details/city-of-montebello-art-exhibit-3437
END:VEVENT

END:VCALENDAR
