BEGIN:VCALENDAR
VERSION:2.0
PRODID:-//ChamberMaster//Event Calendar 2.0//EN
METHOD:PUBLISH
X-PUBLISHED-TTL:P3D
REFRESH-INTERVAL:P3D
CALSCALE:GREGORIAN
BEGIN:VEVENT
DTSTART:20130119T160000Z
DTEND:20130119T200000Z
X-MICROSOFT-CDO-ALLDAYEVENT:FALSE
SUMMARY:City of Montebello Community Beautification Day
DESCRIPTION:The City of Montebello is planning a Community Beautification Day at Grant Rea Park on Saturday\, January 19\, 2013 from 8:00 am.   12:00 p.m.  We are reaching out to the community to come together and "Make Montebello Shine". \n\n	 \n\n	If you or someone you know has a special skill or talent (carpentry\, painting\, fencing\, landscaping) to contribute on that day\, please come and join us.
X-ALT-DESC;FMTTYPE=text/html:<p class="MsoNormal" style="margin: 0in 0in 0pt\; text-align: justify\;">\n	<span style="font-family: times new roman\;"><font size="3"><font color="#000000">The City of </font></font></span><span style="font-family: tahoma\;"><font size="3"><font color="#000000"><st1:city w:st="on"><span style="font-family: times new roman\;">Montebello</span></st1:city><span style="font-family: times new roman\;"> is planning a Community Beautification Day at </span><st1:place w:st="on"><st1:placename w:st="on"><span style="font-family: times new roman\;">Grant</span></st1:placename><span style="font-family: times new roman\;"> </span><st1:placename w:st="on"><span style="font-family: times new roman\;">Rea</span></st1:placename><span style="font-family: times new roman\;"> </span><st1:placetype w:st="on"><span style="font-family: times new roman\;">Park</span></st1:placetype></st1:place></font></font></span><span style="font-family: times new roman\;"><font size="3"><font color="#000000"> on Saturday\, January 19\, 2013 from 8:00 am. &ndash\; 12:00 p.m.<span style="mso-spacerun: yes\;">&nbsp\; </span>We are reaching out to the community to come together and &ldquo\;Make Montebello Shine&rdquo\;. </font></font></span></p>\n<p class="MsoNormal" style="margin: 0in 0in 0pt\; text-align: justify\;">\n	<span style="font-family: tahoma\;"><font color="#000000" size="3">&nbsp\;</font></span></p>\n<p class="MsoNormal" style="margin: 0in 0in 0pt\; text-align: justify\;">\n	<span style="font-family: times new roman\;"><font color="#000000" size="3">If you or someone you know has a special skill or talent (carpentry\, painting\, fencing\, landscaping) to contribute on that day\, please come and join us.</font></span></p>\n
LOCATION:Grant Rea Park 600 N. Rea Dr. Montebello\, CA 90640
UID:e.1156.674
SEQUENCE:3
DTSTAMP:20260419T190341Z
URL:https://www.montebellochamber.org/events/details/city-of-montebello-community-beautification-day-01-19-2013-674
END:VEVENT

END:VCALENDAR
