BEGIN:VCALENDAR
VERSION:2.0
PRODID:-//ChamberMaster//Event Calendar 2.0//EN
METHOD:PUBLISH
X-PUBLISHED-TTL:P3D
REFRESH-INTERVAL:P3D
CALSCALE:GREGORIAN
BEGIN:VEVENT
DTSTART:20180331T173000Z
DTEND:20180331T213000Z
X-MICROSOFT-CDO-ALLDAYEVENT:FALSE
SUMMARY:City of Montebello EGGSTRAVAGANZA
DESCRIPTION:Hello Montebello Participants\,\n\nWe would like to remind you about our Eggstravaganza Event taking place tomorrow at Montebello City Park Ball Field from 10:30 a.m. to 2:30 p.m.\n\nWe will have The Swinging 8 Balls playing live music from 11:30 a.m. to 1:30 p.m.\n\nThere will also be a Kids Inflatable Jumper Area for $5.00 all day!\n\nCome and enjoy some delicious food from:\n\n	 LA DONUTS\n	HOT STAR\n	MARCEL WAFFLES\n	THE BIG CHEESE TRUCK\n	CHILI CHILI MANGO\n	FROZEN DELIGHTS\n	BUTTERY POPCORN\n	KONA ICE\n\nHERE IS THE EGG HUNT SCHEDULE:\n\n*** We have added a 2 and Younger Egg hunt***\n\n2yrs and Younger: 11:15 a.m.\n\n3 - 4 year olds: 11:30 a.m.\n\n5 - 7 year olds: 12:00 p.m.\n\n8 - 10 year olds: 12:30 p.m.\n\n11 - 13 year olds: 1:00 p.m.\n\nAll Egg Hunts will have one Golden Egg that will be a Gift Card\, a Basket Winner\, or a FREE Registration to the MONTEBELLO YOUTH SPORTS PROGRAM\n\nIf you have any questions\, please contact our office at (323) 887-4570\n\nThanks\,\n\nMontebello Sports Office
X-ALT-DESC;FMTTYPE=text/html:Hello Montebello Participants\,<br />\nWe would like to remind you about our Eggstravaganza Event taking place tomorrow at Montebello&nbsp\;City Park Ball Field from 10:30 a.m. to 2:30 p.m.<br />\nWe will have The Swinging 8 Balls playing live music from 11:30 a.m. to 1:30 p.m.<br />\nThere will also be a Kids&nbsp\;Inflatable Jumper Area&nbsp\;for $5.00 all day!<br />\nCome and enjoy some delicious&nbsp\;food from:\n<ol>\n	<li>&nbsp\;LA DONUTS</li>\n	<li>HOT STAR</li>\n	<li>MARCEL WAFFLES</li>\n	<li>THE BIG CHEESE TRUCK</li>\n	<li>CHILI CHILI MANGO</li>\n	<li>FROZEN DELIGHTS</li>\n	<li>BUTTERY POPCORN</li>\n	<li>KONA ICE</li>\n</ol>\nHERE IS THE EGG HUNT SCHEDULE:<br />\n*** We have added a 2 and Younger Egg hunt***<br />\n2yrs and Younger: 11:15 a.m.<br />\n3 - 4 year&nbsp\;olds: 11:30 a.m.<br />\n5 - 7 year&nbsp\;olds: 12:00 p.m.<br />\n8 - 10 year&nbsp\;olds: 12:30 p.m.<br />\n11 - 13 year olds: 1:00 p.m.<br />\nAll Egg Hunts will have one Golden Egg that will be a Gift Card\, a Basket Winner\, or a FREE Registration to the MONTEBELLO YOUTH SPORTS PROGRAM<br />\nIf you have any questions\, please contact our office at (323) 887-4570<br />\nThanks\,<br />\nMontebello Sports Office
LOCATION:Montebello City Park Ball Field 236 George Hensel Drive Montebello\, CA 90640 (Off Taylor Ave. in between Whittier & Olympic)
UID:e.1156.2554
SEQUENCE:3
DTSTAMP:20260419T130531Z
URL:https://www.montebellochamber.org/events/details/city-of-montebello-eggstravaganza-2554
END:VEVENT

END:VCALENDAR
