BEGIN:VCALENDAR
VERSION:2.0
PRODID:-//ChamberMaster//Event Calendar 2.0//EN
METHOD:PUBLISH
X-PUBLISHED-TTL:P3D
REFRESH-INTERVAL:P3D
CALSCALE:GREGORIAN
BEGIN:VEVENT
DTSTART:20181213T023000Z
DTEND:20181213T043000Z
X-MICROSOFT-CDO-ALLDAYEVENT:FALSE
SUMMARY:City of Montebello Reorganization Meeting
DESCRIPTION:City of Montebello \n\nCity Council Re-Organization Meeting
X-ALT-DESC;FMTTYPE=text/html:City of Montebello&nbsp\;<br />\nCity Council Re-Organization Meeting&nbsp\;&nbsp\;&nbsp\;&nbsp\;
LOCATION:*Special Location this meeting Quiet Cannon Crystal Ballroom 3 & 4 901 Via San Clemente Montebello\, CA 90640
UID:e.1156.3129
SEQUENCE:3
DTSTAMP:20260419T160759Z
URL:https://www.montebellochamber.org/events/details/city-of-montebello-reorganization-meeting-3129
END:VEVENT

END:VCALENDAR
