BEGIN:VCALENDAR
VERSION:2.0
PRODID:-//ChamberMaster//Event Calendar 2.0//EN
METHOD:PUBLISH
X-PUBLISHED-TTL:P3D
REFRESH-INTERVAL:P3D
CALSCALE:GREGORIAN
BEGIN:VEVENT
DTSTART:20151203T023000Z
DTEND:20151203T040000Z
X-MICROSOFT-CDO-ALLDAYEVENT:FALSE
SUMMARY:City of Montebello Reorganization of City Council
DESCRIPTION:The City of Montebello's Annual Reorganization of the City Council
X-ALT-DESC;FMTTYPE=text/html:The City of Montebello's Annual Reorganization of the City Council
LOCATION:Quiet Cannon 901 Via San Clemente Montebello CA
UID:e.1156.1438
SEQUENCE:3
DTSTAMP:20260419T184836Z
URL:https://www.montebellochamber.org/events/details/city-of-montebello-reorganization-of-city-council-12-02-2015-1438
END:VEVENT

END:VCALENDAR
