BEGIN:VCALENDAR
VERSION:2.0
PRODID:-//ChamberMaster//Event Calendar 2.0//EN
METHOD:PUBLISH
X-PUBLISHED-TTL:P3D
REFRESH-INTERVAL:P3D
CALSCALE:GREGORIAN
BEGIN:VEVENT
DTSTART:20160722T013000Z
DTEND:20160722T033000Z
X-MICROSOFT-CDO-ALLDAYEVENT:FALSE
SUMMARY:City of Montebello Summer Concerts
DESCRIPTION:Summer Concerts in the park.
X-ALT-DESC;FMTTYPE=text/html:Summer Concerts in the park.
LOCATION:
UID:e.1156.1490
SEQUENCE:3
DTSTAMP:20260419T190514Z
URL:https://www.montebellochamber.org/events/details/city-of-montebello-summer-concerts-07-21-2016-1490
END:VEVENT

END:VCALENDAR
