BEGIN:VCALENDAR
VERSION:2.0
PRODID:-//ChamberMaster//Event Calendar 2.0//EN
METHOD:PUBLISH
X-PUBLISHED-TTL:P3D
REFRESH-INTERVAL:P3D
CALSCALE:GREGORIAN
BEGIN:VEVENT
DTSTART:20160819T013000Z
DTEND:20160819T033000Z
X-MICROSOFT-CDO-ALLDAYEVENT:FALSE
SUMMARY:City of Montebello Summer Concerts
DESCRIPTION:Summer Concerts in the Park\n\nMontebello City Park
X-ALT-DESC;FMTTYPE=text/html:Summer Concerts in the Park<br />\nMontebello&nbsp\;City Park
LOCATION:
UID:e.1156.1492
SEQUENCE:3
DTSTAMP:20260419T174055Z
URL:https://www.montebellochamber.org/events/details/city-of-montebello-summer-concerts-08-18-2016-1492
END:VEVENT

END:VCALENDAR
