BEGIN:VCALENDAR
VERSION:2.0
PRODID:-//ChamberMaster//Event Calendar 2.0//EN
METHOD:PUBLISH
X-PUBLISHED-TTL:P3D
REFRESH-INTERVAL:P3D
CALSCALE:GREGORIAN
BEGIN:VEVENT
DTSTART:20180526T190000Z
DTEND:20180526T230000Z
X-MICROSOFT-CDO-ALLDAYEVENT:FALSE
SUMMARY:Civil War in Film
DESCRIPTION:Presented By the Montebello Historical Society\n\nMemorial Day\n\nCivil War In Film & A Woman's Contribution\n\n\nJoin the Adobe every Saturday from noon till 4pm to experience the Memorial Day/Decoration Day Exhibition.
X-ALT-DESC;FMTTYPE=text/html:<div style="text-align: center\;">Presented By the Montebello Historical Society<br>\n<strong>Memorial Day<br>\nCivil War In Film &amp\; A&nbsp\;Woman's Contribution</strong></div>\n<br>\nJoin the Adobe every Saturday from noon till 4pm to experience the Memorial Day/Decoration Day Exhibition.<br>\n&nbsp\;
LOCATION:946 Adobe Ave. Montebello\, CA 90640
UID:e.1156.2576
SEQUENCE:3
DTSTAMP:20260419T160147Z
URL:https://www.montebellochamber.org/events/details/civil-war-in-film-2576
END:VEVENT

END:VCALENDAR
