BEGIN:VCALENDAR
VERSION:2.0
PRODID:-//ChamberMaster//Event Calendar 2.0//EN
METHOD:PUBLISH
X-PUBLISHED-TTL:P3D
REFRESH-INTERVAL:P3D
CALSCALE:GREGORIAN
BEGIN:VEVENT
DTSTART:20181011T010000Z
DTEND:20181011T030000Z
X-MICROSOFT-CDO-ALLDAYEVENT:FALSE
SUMMARY:Clearman's Steak n' Stein Wine Tasting Event
DESCRIPTION:Clearman's Steak n' Stein Wine Tasting Event\n\nWines - Dinner - Cheesebread!\n\nMake your reservations now!
X-ALT-DESC;FMTTYPE=text/html:Clearman&#39\;s Steak n&#39\; Stein Wine Tasting Event<br />\nWines - Dinner - Cheesebread!<br />\nMake your reservations now!<br />\n&nbsp\;
LOCATION:Clearman's Steak n' Stein 9545 E. Whittier Blvd. Pico Rivera\, CA 90660
UID:e.1156.2877
SEQUENCE:3
DTSTAMP:20260419T202303Z
URL:https://www.montebellochamber.org/events/details/clearman-s-steak-n-stein-wine-tasting-event-2877
END:VEVENT

END:VCALENDAR
