BEGIN:VCALENDAR
VERSION:2.0
PRODID:-//ChamberMaster//Event Calendar 2.0//EN
METHOD:PUBLISH
X-PUBLISHED-TTL:P3D
REFRESH-INTERVAL:P3D
CALSCALE:GREGORIAN
BEGIN:VEVENT
DTSTART:20190202T173000Z
DTEND:20190202T190000Z
X-MICROSOFT-CDO-ALLDAYEVENT:FALSE
SUMMARY:Coffee with Congresswoman Linda Sanchez
DESCRIPTION:Please join Congresswoman Linda Sanchez at her Coffee with the Congresswoman on Saturday\, February 2nd at La Monarca Bakery   Pico Rivera. This is an opportunity to meet and have an intimate discussion with Congresswoman Sanchez on issues that are important to you. \n\n\n\n*Light refreshments will be provided*
X-ALT-DESC;FMTTYPE=text/html:<span style="font-family:calibri\,sans-serif\;"><span style="font-size:11.0pt\;">Please join Congresswoman Linda Sanchez at her Coffee with the Congresswoman on Saturday\, February 2nd&nbsp\;at La Monarca Bakery &ndash\; Pico Rivera. This is an opportunity to meet and have an intimate discussion with Congresswoman Sanchez on issues that are important to you. </span></span><br />\n<br />\n<span style="font-size:14px\;">*Light refreshments will be provided*</span><br />\n&nbsp\;
LOCATION:La Monarca Bakery 6001 Rosemead Blvd Pico Rivera\, CA 90660
UID:e.1156.3143
SEQUENCE:3
DTSTAMP:20260419T130530Z
URL:https://www.montebellochamber.org/events/details/coffee-with-congresswoman-linda-sanchez-3143
END:VEVENT

END:VCALENDAR
