BEGIN:VCALENDAR
VERSION:2.0
PRODID:-//ChamberMaster//Event Calendar 2.0//EN
METHOD:PUBLISH
X-PUBLISHED-TTL:P3D
REFRESH-INTERVAL:P3D
CALSCALE:GREGORIAN
BEGIN:VEVENT
DTSTART:20190915T010000Z
DTEND:20190915T010000Z
X-MICROSOFT-CDO-ALLDAYEVENT:FALSE
SUMMARY:Comedy Night Fundraiser for Armenian Mesrobian School
DESCRIPTION:Armenian Mesrobian School PFC presents Comedy Night featuring...Ara Basil\, Michael Pashan\, Maro Ajenian\, Mary Basmadjian\, and Hrag Tarbinjian!!
X-ALT-DESC;FMTTYPE=text/html:Armenian Mesrobian School PFC presents Comedy Night featuring...Ara Basil\, Michael Pashan\, Maro Ajenian\, Mary Basmadjian\, and Hrag Tarbinjian!!
LOCATION:Bicycle Hotel & Casino 888 Bicycle Drive Bell Gardens\, CA 90201
UID:e.1156.3409
SEQUENCE:3
DTSTAMP:20260419T173514Z
URL:https://www.montebellochamber.org/events/details/comedy-night-fundraiser-for-armenian-mesrobian-school-3409
END:VEVENT

END:VCALENDAR
