BEGIN:VCALENDAR
VERSION:2.0
PRODID:-//ChamberMaster//Event Calendar 2.0//EN
METHOD:PUBLISH
X-PUBLISHED-TTL:P3D
REFRESH-INTERVAL:P3D
CALSCALE:GREGORIAN
BEGIN:VEVENT
DTSTART:20140507T160000Z
DTEND:20140507T190000Z
X-MICROSOFT-CDO-ALLDAYEVENT:FALSE
SUMMARY:Commercial and Industrial Brokers Forum
DESCRIPTION:Meet and Greet City Representatives and Industry professionals to discuss current markets and emerging trends in the city of Montebello.
X-ALT-DESC;FMTTYPE=text/html:Meet and Greet City Representatives and Industry professionals to discuss current markets and emerging trends in the city of Montebello.
LOCATION:Montebello Senior Center 115 Taylor Avenue Montebello CA 90640
UID:e.1156.989
SEQUENCE:3
DTSTAMP:20260419T143518Z
URL:https://www.montebellochamber.org/events/details/commercial-and-industrial-brokers-forum-05-07-2014-989
END:VEVENT

END:VCALENDAR
