BEGIN:VCALENDAR
VERSION:2.0
PRODID:-//ChamberMaster//Event Calendar 2.0//EN
METHOD:PUBLISH
X-PUBLISHED-TTL:P3D
REFRESH-INTERVAL:P3D
CALSCALE:GREGORIAN
BEGIN:VEVENT
DTSTART:20180414T153000Z
DTEND:20180414T190000Z
X-MICROSOFT-CDO-ALLDAYEVENT:FALSE
SUMMARY:Community Beautification Day
DESCRIPTION:City of Montebello\n\nRecreation & Community Services\n\nDo you want to get involved and help your community?\n\nCommunity Beautification Day\n\n\n\nWe're always looking for new volunteers to join us!\n\n*Sign up in advance - submit your waiver today!
X-ALT-DESC;FMTTYPE=text/html:<div style="text-align: center\;">City of Montebello<br />\nRecreation &amp\; Community Services<br />\nDo you want to get involved and help your community?<br />\n<strong>Community Beautification Day</strong><br />\n<br />\nWe&#39\;re always looking for new volunteers to join us!<br />\n*Sign up in advance - submit your waiver today!</div>\n
LOCATION:Reggie Rodriguez Park 200 W. Mines Ave.
UID:e.1156.2555
SEQUENCE:3
DTSTAMP:20260419T143028Z
URL:https://www.montebellochamber.org/events/details/community-beautification-day-2555
END:VEVENT

END:VCALENDAR
