BEGIN:VCALENDAR
VERSION:2.0
PRODID:-//ChamberMaster//Event Calendar 2.0//EN
METHOD:PUBLISH
X-PUBLISHED-TTL:P3D
REFRESH-INTERVAL:P3D
CALSCALE:GREGORIAN
BEGIN:VEVENT
DTSTART:20180623T153000Z
DTEND:20180623T190000Z
X-MICROSOFT-CDO-ALLDAYEVENT:FALSE
SUMMARY:Community Beautifucation Day
DESCRIPTION:City of Montebello\n\nDepartment of Recreation & Community Services\n\nCommunity Beautification Day\n\n\n\nSign up in advance - submit your waiver today!\n\nLunch is provided to all volunteers.\n\nWe're always looking for volunteers to join us!
X-ALT-DESC;FMTTYPE=text/html:<div style="text-align: center\;"><span style="text-align: center\;">City of&nbsp\;</span>Montebello<br style="text-align: center\;" />\n<span style="text-align: center\;">Department of Recreation &amp\; Community Services<br />\n<strong>Community Beautification Day</strong><br />\n<br />\nSign up in advance - submit your waiver today!<br />\nLunch is provided to all volunteers.<br />\nWe&#39\;re always looking for volunteers to join us!</span></div>\n<br />\n&nbsp\;
LOCATION:Potrero Heights Park 8051 Arroyo Dr. Montebello\, CA 90640
UID:e.1156.2563
SEQUENCE:3
DTSTAMP:20260419T185000Z
URL:https://www.montebellochamber.org/events/details/community-beautifucation-day-2563
END:VEVENT

END:VCALENDAR
