BEGIN:VCALENDAR
VERSION:2.0
PRODID:-//ChamberMaster//Event Calendar 2.0//EN
METHOD:PUBLISH
X-PUBLISHED-TTL:P3D
REFRESH-INTERVAL:P3D
CALSCALE:GREGORIAN
BEGIN:VEVENT
DTSTART;VALUE=DATE:20180603
DTEND;VALUE=DATE:20180604
TRANSP:TRANSPARENT
X-MICROSOFT-CDO-ALLDAYEVENT:TRUE
SUMMARY:Community Bike Ride
DESCRIPTION:City of Montebello\n\nDepartment of Recreation & Community Services\n\n\n\nDetails TBA
X-ALT-DESC;FMTTYPE=text/html:<div style="text-align: center\;">City of Montebello<br />\nDepartment of Recreation &amp\; Community Services<br />\n<br />\nDetails TBA</div>\n
LOCATION:Location TBA
UID:e.1156.2562
SEQUENCE:3
DTSTAMP:20260419T173252Z
URL:https://www.montebellochamber.org/events/details/community-bike-ride-2562
END:VEVENT

END:VCALENDAR
