BEGIN:VCALENDAR
VERSION:2.0
PRODID:-//ChamberMaster//Event Calendar 2.0//EN
METHOD:PUBLISH
X-PUBLISHED-TTL:P3D
REFRESH-INTERVAL:P3D
CALSCALE:GREGORIAN
BEGIN:VEVENT
DTSTART:20180721T160000Z
DTEND:20180721T160000Z
X-MICROSOFT-CDO-ALLDAYEVENT:FALSE
SUMMARY:Community Bike Ride
DESCRIPTION:Come join the City of Montebello and The Montebello Bicycle Coalition for our Quarterly Bike Ride!  Refreshments and snacks will be provided before and after the ride.  Helmets are required.
X-ALT-DESC;FMTTYPE=text/html:Come join the City of Montebello and The Montebello Bicycle Coalition for our Quarterly Bike Ride!&nbsp\; Refreshments and snacks will be provided before and after the ride.&nbsp\; Helmets are required.
LOCATION:Reggie Rodriguez Park 200 W. Mines Montebello\, CA 90640
UID:e.1156.2633
SEQUENCE:3
DTSTAMP:20260419T185040Z
URL:https://www.montebellochamber.org/events/details/community-bike-ride-2633
END:VEVENT

END:VCALENDAR
