BEGIN:VCALENDAR
VERSION:2.0
PRODID:-//ChamberMaster//Event Calendar 2.0//EN
METHOD:PUBLISH
X-PUBLISHED-TTL:P3D
REFRESH-INTERVAL:P3D
CALSCALE:GREGORIAN
BEGIN:VEVENT
DTSTART:20200630T160000Z
DTEND:20200630T230000Z
X-MICROSOFT-CDO-ALLDAYEVENT:FALSE
SUMMARY:Community Blood Drive At Beverly Hospital
DESCRIPTION:During this COVID-19 pandemic\, much needed blood donations have decreased. To aid with collecting donations\, Beverly Hospital is proud to be hosting a blood drive with the American Red Cross. Help those in need of blood by signing up for an appointment and donating. If you are unsure about your availability\, walk-ins are welcome. As a special offer\, eligible donors may receive a $5 Amazon gift card* via email. The hospital and Red Cross will ensure precautions are in place for safe blood donation. *Restrictions & Terms & Conditions apply\; Visit rcblood.org/together for more info.
X-ALT-DESC;FMTTYPE=text/html:During this COVID-19 pandemic\, much needed blood donations have decreased. To aid with collecting donations\, Beverly Hospital is proud to be hosting a blood drive with the American Red Cross. Help those in need of blood by signing up for an appointment and donating. If you are unsure about your availability\, walk-ins are welcome. As a special offer\, eligible donors may receive a $5 Amazon gift card* via email. The hospital and Red Cross will ensure precautions are in place for safe blood donation. *Restrictions &amp\; Terms &amp\; Conditions apply\; Visit rcblood.org/together for more info.&nbsp\;
LOCATION:Beverly Hospital - Tower Basement Rooms 309 W. Beverly Blvd. Montebello\, CA 90640
UID:e.1156.3714
SEQUENCE:3
DTSTAMP:20260419T160334Z
URL:https://www.montebellochamber.org/events/details/community-blood-drive-at-beverly-hospital-3714
END:VEVENT

END:VCALENDAR
