BEGIN:VCALENDAR
VERSION:2.0
PRODID:-//ChamberMaster//Event Calendar 2.0//EN
METHOD:PUBLISH
X-PUBLISHED-TTL:P3D
REFRESH-INTERVAL:P3D
CALSCALE:GREGORIAN
BEGIN:VEVENT
DTSTART:20150728T170000Z
DTEND:20150728T231500Z
X-MICROSOFT-CDO-ALLDAYEVENT:FALSE
SUMMARY:Community Blood Drive - Montebello Police Dept.
DESCRIPTION:City of Montebello\n\nCommunity Blood Drive\n\nSponsored By: Montebello Police Department
X-ALT-DESC;FMTTYPE=text/html:City of Montebello<br />\nCommunity Blood Drive<br />\nSponsored By: Montebello Police Department
LOCATION:Montebello Police Department Briefing Room 1600 Beverly Blvd. Montebello CA 90640
UID:e.1156.1411
SEQUENCE:3
DTSTAMP:20260419T231520Z
URL:https://www.montebellochamber.org/events/details/community-blood-drive-montebello-police-dept-07-28-2015-1411
END:VEVENT

END:VCALENDAR
