BEGIN:VCALENDAR
VERSION:2.0
PRODID:-//ChamberMaster//Event Calendar 2.0//EN
METHOD:PUBLISH
X-PUBLISHED-TTL:P3D
REFRESH-INTERVAL:P3D
CALSCALE:GREGORIAN
BEGIN:VEVENT
DTSTART:20180407T190000Z
DTEND:20180407T230000Z
X-MICROSOFT-CDO-ALLDAYEVENT:FALSE
SUMMARY:Community Expo 2018
DESCRIPTION:The Montebello Chamber of Commerce and Industry presents\n\nour annual free public event\n\n\n\n2018 Community Expo (formerly known as Business Expo)\n\n\n\n2018 Theme: "Treasure Quest!"\n\n\nWhat treasures you'll find at 2018 Community Expo:\n\n\n	Discover local businesses\, new products\, services and community organizations!\n	Games\, raffles\, demos\, and prizes!\n	Free giveaways\, food and product samples!\n	JUST ADDED: Special Appearance by LA Rams Cheerleaders!\n	NEW! Spin2Win prizes when you download the new Shop Montebello app at the event!  Prizes include gift cards from Doubletree Hilton Rosemead\, Alondra's Hot Wings\, Polly's Pies\, Juan Great Fiesta\, Hair Philosophy\, Goldex Fine Jewelry & more!
X-ALT-DESC;FMTTYPE=text/html:<div style="text-align: center\;"><br />\nThe Montebello Chamber of Commerce and Industry presents<br />\nour annual free public event<br />\n<br />\n<span style="font-size:16px\;"><strong>2018 Community Expo (formerly known as Business Expo)<br />\n<br />\n2018 Theme: &quot\;Treasure Quest!&quot\;</strong></span></div>\n<br />\n<u><strong>What treasures you&#39\;ll find at 2018 Community Expo:</strong></u>\n\n<ul>\n	<li>Discover local businesses\, new products\, services and community organizations!</li>\n	<li>Games\, raffles\, demos\, and prizes!</li>\n	<li>Free giveaways\, food and product samples!</li>\n	<li><strong><span style="color:#FF0000\;">JUST ADDED: Special Appearance by LA Rams Cheerleaders!</span></strong></li>\n	<li><u><strong>NEW! Spin2Win prizes when you download the new Shop Montebello app at the event!&nbsp\;</strong></u> Prizes include gift cards from Doubletree Hilton Rosemead\, Alondra&#39\;s Hot Wings\, Polly&#39\;s Pies\, Juan Great Fiesta\, Hair Philosophy\, Goldex Fine Jewelry &amp\; more!</li>\n</ul>\n
LOCATION:Shops at Montebello 2134 Montebello Town Center Montebello\, CA 90640
UID:e.1156.2474
SEQUENCE:3
DTSTAMP:20260419T143039Z
URL:https://www.montebellochamber.org/events/details/community-expo-2018-2474
END:VEVENT

END:VCALENDAR
