BEGIN:VCALENDAR
VERSION:2.0
PRODID:-//ChamberMaster//Event Calendar 2.0//EN
METHOD:PUBLISH
X-PUBLISHED-TTL:P3D
REFRESH-INTERVAL:P3D
CALSCALE:GREGORIAN
BEGIN:VEVENT
DTSTART:20130914T180000Z
DTEND:20130914T220000Z
X-MICROSOFT-CDO-ALLDAYEVENT:FALSE
SUMMARY:Community Health Fair
DESCRIPTION:Community Health Fair featuring a special Obama Care presentation\, a celebration of Hispanic Heritage Month and Fiestas Patrias. Free health screenings\, foods\, games and entertainment.
X-ALT-DESC;FMTTYPE=text/html:Community Health Fair featuring a special Obama Care presentation\, a celebration of Hispanic Heritage Month and Fiestas Patrias. Free health screenings\, foods\, games and entertainment.
LOCATION:Montebello Clinica Medica Familiar 901 W. Whittier Blvd.\, Montebello\, CA 90640
UID:e.1156.950
SEQUENCE:3
DTSTAMP:20260419T173541Z
URL:https://www.montebellochamber.org/events/details/community-health-fair-09-14-2013-950
END:VEVENT

END:VCALENDAR
