BEGIN:VCALENDAR
VERSION:2.0
PRODID:-//ChamberMaster//Event Calendar 2.0//EN
METHOD:PUBLISH
X-PUBLISHED-TTL:P3D
REFRESH-INTERVAL:P3D
CALSCALE:GREGORIAN
BEGIN:VEVENT
DTSTART:20121117T170000Z
DTEND:20121117T200000Z
X-MICROSOFT-CDO-ALLDAYEVENT:FALSE
SUMMARY:Composting Giveaway - RESCHEDULED FOR SAT. DEC. 1ST
DESCRIPTION:PLEASE NOTE: EVENT RESCHEDULED FOR DEC. 1ST\, DUE TO THE RAIN!!!!\n\n\n\nOpen to residents. Just show up the day of event and bring a bucket/container and will be given FREE compost. 30 Gal. max.\n\n*No plastic bags allowed.
X-ALT-DESC;FMTTYPE=text/html:<u><strong>PLEASE NOTE: EVENT RESCHEDULED FOR DEC. 1ST\, DUE TO THE RAIN!!!!</strong></u><br />\n<br />\nOpen to residents. Just show up the day of event and bring a bucket/container and will be given FREE compost. 30 Gal. max.<br />\n*No plastic bags allowed.
LOCATION:Henry Acuna Park Municpal Services Parks & Recreation Building 1700 W. Victoria Ave Montebello\, CA 90640
UID:e.1156.665
SEQUENCE:3
DTSTAMP:20260419T214512Z
URL:https://www.montebellochamber.org/events/details/composting-giveaway-rescheduled-for-sat-dec-1st-11-17-2012-665
END:VEVENT

END:VCALENDAR
