BEGIN:VCALENDAR
VERSION:2.0
PRODID:-//ChamberMaster//Event Calendar 2.0//EN
METHOD:PUBLISH
X-PUBLISHED-TTL:P3D
REFRESH-INTERVAL:P3D
CALSCALE:GREGORIAN
BEGIN:VEVENT
DTSTART:20180719T233000Z
DTEND:20180720T033000Z
X-MICROSOFT-CDO-ALLDAYEVENT:FALSE
SUMMARY:Concerts in the Park
DESCRIPTION:City of Montebello\n\nRecreation and Community Services\n\n\n\nConcerts in the Park\n\nTHURSDAY NIGHTS\n\nCome out and Enjoy Food Vendors\, Jumpers & Family Fun!\n\n\n\nJune 28th: The Jam Band & VooDoo Syndicate\n\nJuly 5th: Aztlan Soul Band\n\nJuly 12th: Cannibal and the Headhunters\n\nJuly 19th: Bumptown\n\nJuly 26th: Wiseguys\n\nAugust 2nd: Tierra\n\nAugust 9th: Montebello United Concert Park Ave Christian Church\n\n\n\nPark Festivites Starting @ 4:30pm\n\nMusic: 6:30 pm - 8:30pm\n\n(Gates open @ 5:30pm)
X-ALT-DESC;FMTTYPE=text/html:<div style="text-align: center\;">City of Montebello<br />\nRecreation and Community Services<br />\n<br />\n<span style="font-size:20px\;"><strong>Concerts in the Park</strong></span><br />\n<strong><span style="color:#FF0000\;">THURSDAY NIGHTS</span></strong><br />\nCome out and Enjoy Food Vendors\, Jumpers &amp\; Family Fun!<br />\n<br />\n<span style="font-size:16px\;">June 28th: The Jam Band &amp\; VooDoo Syndicate<br />\nJuly 5th: Aztlan Soul Band<br />\nJuly 12th: Cannibal and the Headhunters<br />\nJuly 19th: Bumptown<br />\nJuly 26th: Wiseguys<br />\nAugust 2nd: Tierra<br />\nAugust 9th: Montebello United Concert Park Ave Christian Church<br />\n<br />\nPark Festivites Starting @ 4:30pm<br />\nMusic: 6:30 pm - 8:30pm<br />\n<span style="font-size:12px\;">(Gates open @ 5:30pm)</span></span></div>\n
LOCATION:Montebello City Park Bandshell 1301 W. Whittier Blvd. Montebello\, CA 90640
UID:e.1156.2614
SEQUENCE:3
DTSTAMP:20260419T202646Z
URL:https://www.montebellochamber.org/events/details/concerts-in-the-park-07-19-2018-2614
END:VEVENT

END:VCALENDAR
