BEGIN:VCALENDAR
VERSION:2.0
PRODID:-//ChamberMaster//Event Calendar 2.0//EN
METHOD:PUBLISH
X-PUBLISHED-TTL:P3D
REFRESH-INTERVAL:P3D
CALSCALE:GREGORIAN
BEGIN:VEVENT
DTSTART:20150821T010000Z
DTEND:20150821T023000Z
X-MICROSOFT-CDO-ALLDAYEVENT:FALSE
SUMMARY:Congresswoman Linda Sanchez Importing & Exporting
DESCRIPTION:Congresswoman Linda Sanchez Importing & Exporting\n\nSmall Business Seminar\n\n	How do I import/and export\n	Learn how to expand your market\n	Strategies for a global economy\n	Access the resources you need to succeed.\n\nPresentation by Lynn Steward\, Director of Global Trade and Logistics for the Orange County Center for International Trade & Development.
X-ALT-DESC;FMTTYPE=text/html:Congresswoman Linda Sanchez Importing &amp\; Exporting<br />\nSmall Business Seminar\n<ul>\n	<li>How do I import/and export</li>\n	<li>Learn how to expand your market</li>\n	<li>Strategies for a global economy</li>\n	<li>Access the resources you need to succeed.</li>\n</ul>\nPresentation by Lynn Steward\, Director of Global Trade and Logistics for the Orange County Center for International Trade &amp\; Development.<br />\n&nbsp\;
LOCATION:The Skyline Room at Cerritos Library 18025 Bloomfield Avenue\, Cerritos\, CA 90703
UID:e.1156.1413
SEQUENCE:3
DTSTAMP:20260420T004717Z
URL:https://www.montebellochamber.org/events/details/congresswoman-linda-sanchez-importing-exporting-08-20-2015-1413
END:VEVENT

END:VCALENDAR
