BEGIN:VCALENDAR
VERSION:2.0
PRODID:-//ChamberMaster//Event Calendar 2.0//EN
METHOD:PUBLISH
X-PUBLISHED-TTL:P3D
REFRESH-INTERVAL:P3D
CALSCALE:GREGORIAN
BEGIN:VEVENT
DTSTART:20150814T160000Z
DTEND:20150814T190000Z
X-MICROSOFT-CDO-ALLDAYEVENT:FALSE
SUMMARY:Congresswoman Linda Sanchez Senior Fair
DESCRIPTION:Congresswoman Linda Sanchez\n\n13th Annual Senior Fair\n\n	Free Health Screenings\n	Health Education\n	Food Assistance Programs\n	Veterans Assistance\n	Consumer Protection Education\n	Housing Assistance\n	Elder Law / Rights Information
X-ALT-DESC;FMTTYPE=text/html:Congresswoman Linda Sanchez<br />\n13th Annual Senior Fair\n<ul>\n	<li>Free Health Screenings</li>\n	<li>Health Education</li>\n	<li>Food Assistance Programs</li>\n	<li>Veterans Assistance</li>\n	<li>Consumer Protection Education</li>\n	<li>Housing Assistance</li>\n	<li>Elder Law / Rights Information</li>\n</ul>\n
LOCATION:Cerritos College Student Center 11110 Alondra Blvd. Norwalk\, CA 90650
UID:e.1156.1412
SEQUENCE:3
DTSTAMP:20260420T004804Z
URL:https://www.montebellochamber.org/events/details/congresswoman-linda-sanchez-senior-fair-08-14-2015-1412
END:VEVENT

END:VCALENDAR
