BEGIN:VCALENDAR
VERSION:2.0
PRODID:-//ChamberMaster//Event Calendar 2.0//EN
METHOD:PUBLISH
X-PUBLISHED-TTL:P3D
REFRESH-INTERVAL:P3D
CALSCALE:GREGORIAN
BEGIN:VEVENT
DTSTART:20181201T020000Z
DTEND:20181201T020000Z
X-MICROSOFT-CDO-ALLDAYEVENT:FALSE
SUMMARY:Countdown to Christmas
DESCRIPTION:The Shops at Montebello are counting down to Christmas with two fun events for shoppers on November 30 and December 5.  The first 100 shoppers in Center Court on these two Fridays will receive a wrapped present.  One lucky shopper's gift will include a $100 Forever 21 gift card.  Countdown to Christmas will also have holiday treats for all to enjoy while supplies last.
X-ALT-DESC;FMTTYPE=text/html:The Shops at Montebello are counting down to Christmas with two fun events for shoppers on November 30 and December 5.&nbsp\; The first 100 shoppers in Center Court on these two Fridays will receive a wrapped present.&nbsp\; One lucky shopper&#39\;s gift will include a $100 Forever 21 gift card.&nbsp\; Countdown to Christmas will also have holiday treats for all to enjoy while supplies last.
LOCATION:2134 Montebello Town Center Montebello\, CA 90640
UID:e.1156.3118
SEQUENCE:3
DTSTAMP:20260419T173146Z
URL:https://www.montebellochamber.org/events/details/countdown-to-christmas-3118
END:VEVENT

END:VCALENDAR
