BEGIN:VCALENDAR
VERSION:2.0
PRODID:-//ChamberMaster//Event Calendar 2.0//EN
METHOD:PUBLISH
X-PUBLISHED-TTL:P3D
REFRESH-INTERVAL:P3D
CALSCALE:GREGORIAN
BEGIN:VEVENT
DTSTART:20200702T163000Z
DTEND:20200702T193000Z
X-MICROSOFT-CDO-ALLDAYEVENT:FALSE
SUMMARY:COVID-19 Essential Items & Food Distribution Drive-up Giveaway
DESCRIPTION:COVID-19 Essential Items & Food Distribution Drive-up Giveaway Sponsored by Los Angeles County Supervisor Hilda L. Solis\, City of Montebello\, SBCC\, American Lung Association\, Food Bank\, & Baby2Baby. \n\nPLEASE STAY IN YOUR VEHICLE AND WEAR YOUR FACE MASK AT ALL TIMES.
X-ALT-DESC;FMTTYPE=text/html:COVID-19 Essential Items &amp\; Food Distribution Drive-up Giveaway Sponsored by Los Angeles County Supervisor Hilda L. Solis\, City of Montebello\, SBCC\, American Lung Association\, Food Bank\, &amp\; Baby2Baby.&nbsp\;<br />\nPLEASE STAY IN YOUR VEHICLE AND WEAR YOUR <u>FACE MASK AT ALL TIMES. </u>
LOCATION:Montebello Civic Center 1600 West Beverly Blvd. Montebello\, CA 90640 (Enter through W. Beverly Blvd)
UID:e.1156.3736
SEQUENCE:3
DTSTAMP:20260419T143640Z
URL:https://www.montebellochamber.org/events/details/covid-19-essential-items-food-distribution-drive-up-giveaway-3736
END:VEVENT

END:VCALENDAR
