BEGIN:VCALENDAR
VERSION:2.0
PRODID:-//ChamberMaster//Event Calendar 2.0//EN
METHOD:PUBLISH
X-PUBLISHED-TTL:P3D
REFRESH-INTERVAL:P3D
CALSCALE:GREGORIAN
BEGIN:VEVENT
DTSTART:20180208T180000Z
DTEND:20180208T193000Z
X-MICROSOFT-CDO-ALLDAYEVENT:FALSE
SUMMARY:Credit Union Branch Grand Opening-Ribbon Cutting Ceremony
DESCRIPTION:Student Run Credit Union Branch GRAND OPENING - Ribbon Cutting Ceremony\n\nJoin us for networking\, phot opportunities\, branch tour\, and John Muir High campus tour!
X-ALT-DESC;FMTTYPE=text/html:Student Run Credit Union Branch GRAND OPENING - Ribbon Cutting Ceremony<br />\nJoin us for networking\, phot opportunities\, branch tour\, and John Muir High campus tour!
LOCATION:John Muir High School 1905 Lincoln Ave. Pasadena\, CA 91103
UID:e.1156.2482
SEQUENCE:3
DTSTAMP:20260419T114832Z
URL:https://www.montebellochamber.org/events/details/credit-union-branch-grand-opening-ribbon-cutting-ceremony-2482
END:VEVENT

END:VCALENDAR
